BEGIN:VCALENDAR
VERSION:2.0
PRODID:-//hacksw/handcal//NONSGML v1.0//EN
BEGIN:VEVENT
DTSTAMP:20170511T220000Z
DTSTART:20170511T220000Z
DTEND:20170511T220000Z
SUMMARY:Infostand Markt Alt Erkrath, 11:30
END:VEVENT
END:VCALENDAR
